BEGIN:VCALENDAR
VERSION:2.0
PRODID:-//Portland Metro Arts - ECPv6.15.20//NONSGML v1.0//EN
CALSCALE:GREGORIAN
METHOD:PUBLISH
X-WR-CALNAME:Portland Metro Arts
X-ORIGINAL-URL:https://pdxmetroarts.org
X-WR-CALDESC:Events for Portland Metro Arts
REFRESH-INTERVAL;VALUE=DURATION:PT1H
X-Robots-Tag:noindex
X-PUBLISHED-TTL:PT1H
BEGIN:VTIMEZONE
TZID:America/Vancouver
BEGIN:DAYLIGHT
TZOFFSETFROM:-0800
TZOFFSETTO:-0700
TZNAME:PDT
DTSTART:20250309T100000
END:DAYLIGHT
BEGIN:STANDARD
TZOFFSETFROM:-0700
TZOFFSETTO:-0800
TZNAME:PST
DTSTART:20251102T090000
END:STANDARD
BEGIN:DAYLIGHT
TZOFFSETFROM:-0800
TZOFFSETTO:-0700
TZNAME:PDT
DTSTART:20260308T100000
END:DAYLIGHT
BEGIN:STANDARD
TZOFFSETFROM:-0700
TZOFFSETTO:-0800
TZNAME:PST
DTSTART:20261101T090000
END:STANDARD
BEGIN:DAYLIGHT
TZOFFSETFROM:-0800
TZOFFSETTO:-0700
TZNAME:PDT
DTSTART:20270314T100000
END:DAYLIGHT
BEGIN:STANDARD
TZOFFSETFROM:-0700
TZOFFSETTO:-0800
TZNAME:PST
DTSTART:20271107T090000
END:STANDARD
END:VTIMEZONE
BEGIN:VEVENT
DTSTART;TZID=America/Vancouver:20260110T130000
DTEND;TZID=America/Vancouver:20260110T160000
DTSTAMP:20260421T060834
CREATED:20251201T200657Z
LAST-MODIFIED:20251231T192922Z
UID:5430-1768050000-1768060800@pdxmetroarts.org
SUMMARY:Coppelia Auditions
DESCRIPTION:Auditions for Metro Dancers’\nChildren\, Adult\, Character\nSaturday\, January 10\, 2026\nPortland Metro Arts\n9003 SE Stark\, Portland\nMetroDancers@PDXMetroArts.org          503-408-0604 \nMetro Dancers is pleased to present the highly acclaimed comedy ballet classic Coppelia\, as staged by the nationally prominent Joanna Kneeland. Coppelia is a whimsical tale about an eccentric inventor\, his animated doll\, and the delightful chaos they introduce to their unsuspecting village. \nAuditions are open to anyone who meets the criteria below\, regardless of where they receive their training.  We will be casting for supporting acting characters as well as adult\, children’s\, intermediate and advanced dancing roles \n1:00-2:30pm   Auditions for Lower Division dancers (level 1 & 2)\nPerformers must be at least six years old and have a minimum of one year of dance experience. \n2:30-4:00pm   Auditions for Intermediate & Advanced Dancers (level 3 & 4)\nWe will be casting for principal dancers and intermediate to advanced corps parts.  Women auditioning for principal roles should bring their pointe shoes.  Men should have some performance experience.  No individually prepared material will be required. \nFeatured Roles being cast at this audition:\nSwanilda-a young girl\nFranz-a young man\nBrigitta-a young barmaid\nFriends of Swanilda-four women\nDr. Coppelius-eccentric inventor\nCoppelia-mechanical doll\nVillage girls-four women\nFriends of Franz-four men \nTentative Performance Dates\nApril 10-11\, 2026 \nSave time on audition day and fill out an audition form
URL:https://pdxmetroarts.org/event/coppelia-auditions/
LOCATION:Portland Metro Arts\, 9003 SE Stark St\, Portland\, OR\, 97216\, United States
CATEGORIES:Audition
ATTACH;FMTTYPE=image/png:https://pdxmetroarts.org/wp-content/uploads/2025/08/Coppelia-Audition.png
ORGANIZER;CN="Portland Metro Arts":MAILTO:music@pdxmetroarts.org
END:VEVENT
END:VCALENDAR