BEGIN:VCALENDAR
VERSION:2.0
PRODID:-//Portland Metro Arts - ECPv6.15.20//NONSGML v1.0//EN
CALSCALE:GREGORIAN
METHOD:PUBLISH
X-WR-CALNAME:Portland Metro Arts
X-ORIGINAL-URL:https://pdxmetroarts.org
X-WR-CALDESC:Events for Portland Metro Arts
REFRESH-INTERVAL;VALUE=DURATION:PT1H
X-Robots-Tag:noindex
X-PUBLISHED-TTL:PT1H
BEGIN:VTIMEZONE
TZID:America/Vancouver
BEGIN:DAYLIGHT
TZOFFSETFROM:-0800
TZOFFSETTO:-0700
TZNAME:PDT
DTSTART:20250309T100000
END:DAYLIGHT
BEGIN:STANDARD
TZOFFSETFROM:-0700
TZOFFSETTO:-0800
TZNAME:PST
DTSTART:20251102T090000
END:STANDARD
BEGIN:DAYLIGHT
TZOFFSETFROM:-0800
TZOFFSETTO:-0700
TZNAME:PDT
DTSTART:20260308T100000
END:DAYLIGHT
BEGIN:STANDARD
TZOFFSETFROM:-0700
TZOFFSETTO:-0800
TZNAME:PST
DTSTART:20261101T090000
END:STANDARD
BEGIN:DAYLIGHT
TZOFFSETFROM:-0800
TZOFFSETTO:-0700
TZNAME:PDT
DTSTART:20270314T100000
END:DAYLIGHT
BEGIN:STANDARD
TZOFFSETFROM:-0700
TZOFFSETTO:-0800
TZNAME:PST
DTSTART:20271107T090000
END:STANDARD
END:VTIMEZONE
BEGIN:VEVENT
DTSTART;TZID=America/Vancouver:20260208T150000
DTEND;TZID=America/Vancouver:20260208T170000
DTSTAMP:20260421T121915
CREATED:20251204T175717Z
LAST-MODIFIED:20260208T055750Z
UID:5331-1770562800-1770570000@pdxmetroarts.org
SUMMARY:Winter in the Willows - February 8\, 2026 - Tickets at the Door
DESCRIPTION:What happens when your favorite Willows friends – Toad\, Badger\, Rat\, and Mole – must not only prepare for Winter\, but also an important visit from Mole’s extended family? Yes\, it seems Mole’s grandmother has heard all about Mr. Toad’s dangerous exploits and poor behavior and is due to arrive any minute to see what is going on for herself! And what about those dastardly Weasels? Chances are they are up to no good again\, just waiting for an opportunity to get back into Toad Hall! \nThe musical stylings of Sir Arthur Sullivan\, of Gilbert and Sullivan fame\, underscore the humorous situations and confusion that follow as our characters try to balance their responsibility to their family and their friends. Our original script – from our own alum Miriam Kilian – is based on the much-loved characters and world first brought to life by author Kenneth Grahame in 1908. This lovely tale is sure to be a fun\, live theatre experience for audiences of all ages!
URL:https://pdxmetroarts.org/event/winter-in-the-willows-february-8-2026/
LOCATION:Portland Metro Arts\, 9003 SE Stark St\, Portland\, OR\, 97216\, United States
CATEGORIES:Performance
ATTACH;FMTTYPE=image/png:https://pdxmetroarts.org/wp-content/uploads/2025/07/3.png
ORGANIZER;CN="Portland Metro Arts":MAILTO:music@pdxmetroarts.org
END:VEVENT
END:VCALENDAR