BEGIN:VCALENDAR
VERSION:2.0
PRODID:-//Portland Metro Arts - ECPv6.15.20//NONSGML v1.0//EN
CALSCALE:GREGORIAN
METHOD:PUBLISH
X-WR-CALNAME:Portland Metro Arts
X-ORIGINAL-URL:https://pdxmetroarts.org
X-WR-CALDESC:Events for Portland Metro Arts
REFRESH-INTERVAL;VALUE=DURATION:PT1H
X-Robots-Tag:noindex
X-PUBLISHED-TTL:PT1H
BEGIN:VTIMEZONE
TZID:America/Vancouver
BEGIN:DAYLIGHT
TZOFFSETFROM:-0800
TZOFFSETTO:-0700
TZNAME:PDT
DTSTART:20240310T100000
END:DAYLIGHT
BEGIN:STANDARD
TZOFFSETFROM:-0700
TZOFFSETTO:-0800
TZNAME:PST
DTSTART:20241103T090000
END:STANDARD
BEGIN:DAYLIGHT
TZOFFSETFROM:-0800
TZOFFSETTO:-0700
TZNAME:PDT
DTSTART:20250309T100000
END:DAYLIGHT
BEGIN:STANDARD
TZOFFSETFROM:-0700
TZOFFSETTO:-0800
TZNAME:PST
DTSTART:20251102T090000
END:STANDARD
BEGIN:DAYLIGHT
TZOFFSETFROM:-0800
TZOFFSETTO:-0700
TZNAME:PDT
DTSTART:20260308T100000
END:DAYLIGHT
BEGIN:STANDARD
TZOFFSETFROM:-0700
TZOFFSETTO:-0800
TZNAME:PST
DTSTART:20261101T090000
END:STANDARD
BEGIN:DAYLIGHT
TZOFFSETFROM:-0800
TZOFFSETTO:-0700
TZNAME:PDT
DTSTART:20270314T100000
END:DAYLIGHT
BEGIN:STANDARD
TZOFFSETFROM:-0700
TZOFFSETTO:-0800
TZNAME:PST
DTSTART:20271107T090000
END:STANDARD
END:VTIMEZONE
BEGIN:VEVENT
DTSTART;TZID=America/Vancouver:20260411T190000
DTEND;TZID=America/Vancouver:20260411T210000
DTSTAMP:20260422T201053
CREATED:20260212T183023Z
LAST-MODIFIED:20260411T203838Z
UID:6165-1775934000-1775941200@pdxmetroarts.org
SUMMARY:Coppelia - 7PM TICKETS AVAILABLE AT DOOR ONLY
DESCRIPTION:Prepare to be enchanted and amused as Metro Dancers proudly present the comic ballet classic\, Coppelia\, as staged by Joanna Kneeland. This family-friendly spectacle narrates the tale of an eccentric inventor\, his animated doll creation\, and the delightful chaos they unleash upon their quaint village. Delight in the humorous and thrilling escapades of this peculiar duo\, with music\, costumes\, sets\, and the artistry of the dancers harmonizing to craft an unforgettable performance extravaganza! \n			\n			\n				\n				\n				\n				\n			\n				\n				\n				\n				\n				\n				\n				\n				\n				\n				\n				\n			\n			\n				\n				\n				\n				\n				\n				\n				\n				\n				\n				Raise a Glass to a Happy Ending!\nJoin us after the performance at Brigitta’s Garten for some hearty snacks and refreshments. Toast the happy ending to this comic tale and meet some of the fun characters from the Ballet. What a wonderful way for everyone to finish their afternoon of fun and support Metro Dancers with this fundraiser. Food service from 4:30 to 6:00pm.
URL:https://pdxmetroarts.org/event/coppelia-7pm/
LOCATION:Portland Metro Arts\, 9003 SE Stark St\, Portland\, OR\, 97216\, United States
CATEGORIES:Performance
ATTACH;FMTTYPE=image/png:https://pdxmetroarts.org/wp-content/uploads/2026/02/Fall-Classes-Start.png
ORGANIZER;CN="Portland Metro Arts":MAILTO:music@pdxmetroarts.org
END:VEVENT
BEGIN:VEVENT
DTSTART;TZID=America/Vancouver:20260411T150000
DTEND;TZID=America/Vancouver:20260411T170000
DTSTAMP:20260422T201053
CREATED:20260212T170528Z
LAST-MODIFIED:20260410T205505Z
UID:6143-1775919600-1775926800@pdxmetroarts.org
SUMMARY:Coppelia - SOLD OUT
DESCRIPTION:Prepare to be enchanted and amused as Metro Dancers proudly present the comic ballet classic\, Coppelia\, as staged by Joanna Kneeland. This family-friendly spectacle narrates the tale of an eccentric inventor\, his animated doll creation\, and the delightful chaos they unleash upon their quaint village. Delight in the humorous and thrilling escapades of this peculiar duo\, with music\, costumes\, sets\, and the artistry of the dancers harmonizing to craft an unforgettable performance extravaganza! \n			\n			\n				\n				\n				\n				\n			\n				\n				\n				\n				\n				\n				\n				\n				\n				\n				\n				\n			\n			\n				\n				\n				\n				\n				\n				\n				\n				\n				\n				Raise a Glass to a Happy Ending!\nJoin us after the performance at Brigitta’s Garten for some hearty snacks and refreshments. Toast the happy ending to this comic tale and meet some of the fun characters from the Ballet. What a wonderful way for everyone to finish their afternoon of fun and support Metro Dancers with this fundraiser. Food service from 4:30 to 6:00pm.
URL:https://pdxmetroarts.org/event/coppelia-3pm/
LOCATION:Portland Metro Arts\, 9003 SE Stark St\, Portland\, OR\, 97216\, United States
CATEGORIES:Performance
ATTACH;FMTTYPE=image/png:https://pdxmetroarts.org/wp-content/uploads/2026/02/Fall-Classes-Start.png
ORGANIZER;CN="Portland Metro Arts":MAILTO:music@pdxmetroarts.org
END:VEVENT
BEGIN:VEVENT
DTSTART;TZID=America/Vancouver:20260410T120000
DTEND;TZID=America/Vancouver:20260410T143000
DTSTAMP:20260422T201053
CREATED:20260106T192755Z
LAST-MODIFIED:20260409T235744Z
UID:5089-1775822400-1775831400@pdxmetroarts.org
SUMMARY:Coppelia School Performance - Noon
DESCRIPTION:Coppelia is an exquisitely whimsical tale about an eccentric inventor\, his animated doll\, and the delightful chaos they introduce to their unsuspecting village. This lively\, comedic ballet serves as an ideal experience for both newcomers to the world of ballet and seasoned enthusiasts seeking a refreshing perspective. With its captivating melodies\, stunning costumes\, magnificent sets\, and dancers who perform with enchanting grace\, it is an unmissable extravaganza.
URL:https://pdxmetroarts.org/event/coppelia-school-performance-noon/
LOCATION:Portland Metro Arts\, 9003 SE Stark St\, Portland\, OR\, 97216\, United States
CATEGORIES:Performance
ATTACH;FMTTYPE=image/png:https://pdxmetroarts.org/wp-content/uploads/2025/07/5.png
ORGANIZER;CN="Portland Metro Arts":MAILTO:music@pdxmetroarts.org
END:VEVENT
BEGIN:VEVENT
DTSTART;TZID=America/Vancouver:20260410T093000
DTEND;TZID=America/Vancouver:20260410T110000
DTSTAMP:20260422T201053
CREATED:20260105T192050Z
LAST-MODIFIED:20260327T174058Z
UID:5070-1775813400-1775818800@pdxmetroarts.org
SUMMARY:Coppelia School Performance - 9:30am
DESCRIPTION:Coppelia is an exquisitely whimsical tale about an eccentric inventor\, his animated doll\, and the delightful chaos they introduce to their unsuspecting village. This lively\, comedic ballet serves as an ideal experience for both newcomers to the world of ballet and seasoned enthusiasts seeking a refreshing perspective. With its captivating melodies\, stunning costumes\, magnificent sets\, and dancers who perform with enchanting grace\, it is an unmissable extravaganza.
URL:https://pdxmetroarts.org/event/coppelia-school-performance-930am/
LOCATION:Portland Metro Arts\, 9003 SE Stark St\, Portland\, OR\, 97216\, United States
CATEGORIES:Performance
ATTACH;FMTTYPE=image/png:https://pdxmetroarts.org/wp-content/uploads/2025/07/5.png
ORGANIZER;CN="Portland Metro Arts":MAILTO:music@pdxmetroarts.org
END:VEVENT
BEGIN:VEVENT
DTSTART;TZID=America/Vancouver:20260208T150000
DTEND;TZID=America/Vancouver:20260208T170000
DTSTAMP:20260422T201053
CREATED:20251204T175717Z
LAST-MODIFIED:20260208T055750Z
UID:5331-1770562800-1770570000@pdxmetroarts.org
SUMMARY:Winter in the Willows - February 8\, 2026 - Tickets at the Door
DESCRIPTION:What happens when your favorite Willows friends – Toad\, Badger\, Rat\, and Mole – must not only prepare for Winter\, but also an important visit from Mole’s extended family? Yes\, it seems Mole’s grandmother has heard all about Mr. Toad’s dangerous exploits and poor behavior and is due to arrive any minute to see what is going on for herself! And what about those dastardly Weasels? Chances are they are up to no good again\, just waiting for an opportunity to get back into Toad Hall! \nThe musical stylings of Sir Arthur Sullivan\, of Gilbert and Sullivan fame\, underscore the humorous situations and confusion that follow as our characters try to balance their responsibility to their family and their friends. Our original script – from our own alum Miriam Kilian – is based on the much-loved characters and world first brought to life by author Kenneth Grahame in 1908. This lovely tale is sure to be a fun\, live theatre experience for audiences of all ages!
URL:https://pdxmetroarts.org/event/winter-in-the-willows-february-8-2026/
LOCATION:Portland Metro Arts\, 9003 SE Stark St\, Portland\, OR\, 97216\, United States
CATEGORIES:Performance
ATTACH;FMTTYPE=image/png:https://pdxmetroarts.org/wp-content/uploads/2025/07/3.png
ORGANIZER;CN="Portland Metro Arts":MAILTO:music@pdxmetroarts.org
END:VEVENT
BEGIN:VEVENT
DTSTART;TZID=America/Vancouver:20260207T150000
DTEND;TZID=America/Vancouver:20260207T170000
DTSTAMP:20260422T201053
CREATED:20251203T175315Z
LAST-MODIFIED:20260207T173739Z
UID:5326-1770476400-1770483600@pdxmetroarts.org
SUMMARY:Winter in the Willows - February 7th\, 2026/SOLD OUT
DESCRIPTION:What happens when your favorite Willows friends – Toad\, Badger\, Rat\, and Mole – must not only prepare for Winter\, but also an important visit from Mole’s extended family? Yes\, it seems Mole’s grandmother has heard all about Mr. Toad’s dangerous exploits and poor behavior and is due to arrive any minute to see what is going on for herself! And what about those dastardly Weasels? Chances are they are up to no good again\, just waiting for an opportunity to get back into Toad Hall! \nThe musical stylings of Sir Arthur Sullivan\, of Gilbert and Sullivan fame\, underscore the humorous situations and confusion that follow as our characters try to balance their responsibility to their family and their friends. Our original script – from our own alum Miriam Kilian – is based on the much-loved characters and world first brought to life by author Kenneth Grahame in 1908. This lovely tale is sure to be a fun\, live theatre experience for audiences of all ages!
URL:https://pdxmetroarts.org/event/winter-in-the-willows-february-7th-2026/
LOCATION:Portland Metro Arts\, 9003 SE Stark St\, Portland\, OR\, 97216\, United States
CATEGORIES:Performance
ATTACH;FMTTYPE=image/png:https://pdxmetroarts.org/wp-content/uploads/2025/07/3.png
ORGANIZER;CN="Portland Metro Arts":MAILTO:music@pdxmetroarts.org
END:VEVENT
BEGIN:VEVENT
DTSTART;TZID=America/Vancouver:20260131T190000
DTEND;TZID=America/Vancouver:20260131T210000
DTSTAMP:20260422T201053
CREATED:20251203T012850Z
LAST-MODIFIED:20251231T192932Z
UID:5710-1769886000-1769893200@pdxmetroarts.org
SUMMARY:Choreographers' Showcase
DESCRIPTION:Our Choreographers’ showcase is the last of our winter student performances. These informal concerts are our “report of progress” to the students’ family and friends. And is a way to encourage our students to stretch their idea of dance by creating their own works. \nStaff and students have worked very hard and their success is evident in their technical progress and artistic growth. Creation of art is a complex combination of mind\, body and individual artistry. It has been our privilege and delight to have shared in that process with each of our students. \nThis informal concert presents the work of choreographers who are just beginning to produce dances alongside experienced choreographers with works in progress. Come cheer our talented performers! \nADMISSION IS FREE – DONATIONS ARE WELCOME
URL:https://pdxmetroarts.org/event/choreographers-showcase/
LOCATION:Portland Metro Arts\, 9003 SE Stark St\, Portland\, OR\, 97216\, United States
CATEGORIES:Performance
ATTACH;FMTTYPE=image/png:https://pdxmetroarts.org/wp-content/uploads/2025/08/choreographer-26.png
ORGANIZER;CN="Portland Metro Arts":MAILTO:music@pdxmetroarts.org
END:VEVENT
BEGIN:VEVENT
DTSTART;TZID=America/Vancouver:20251122T190000
DTEND;TZID=America/Vancouver:20251122T210000
DTSTAMP:20260422T201053
CREATED:20250803T034036Z
LAST-MODIFIED:20251121T064704Z
UID:5109-1763838000-1763845200@pdxmetroarts.org
SUMMARY:Dance Mosaic - 7pm
DESCRIPTION:Where Tradition Meets Innovation \nImmerse yourself in an enthralling dance performance crafted by esteemed local icons and nationally acclaimed choreographers. This magnificent concert transitions seamlessly from traditional ballet to the most avant-garde movements. Join the Metro Dancers and their distinguished guests on Saturday\, November 22nd\, at 3:00 p.m. and 7:00 p.m. at our venue located at 9003 SE Stark Street. \nFeaturing a blend of promising pre-professional dancers and seasoned veterans\, this troupe epitomizes elegance and sophistication. Witness their brilliance as they illuminate the stage with works by National Endowment for the Arts Choreography awardees\, former principals from major dance companies\, and esteemed local choreographers. \nThe mission of Metro Dancers is to deliver performances of the highest caliber for dancers while providing exhilarating dance experiences for audiences to relish.
URL:https://pdxmetroarts.org/event/dance-mosaic-7pm/
LOCATION:Portland Metro Arts\, 9003 SE Stark St\, Portland\, OR\, 97216\, United States
CATEGORIES:Performance
ATTACH;FMTTYPE=image/png:https://pdxmetroarts.org/wp-content/uploads/2025/08/mosaic-25.png
ORGANIZER;CN="Portland Metro Arts":MAILTO:music@pdxmetroarts.org
END:VEVENT
BEGIN:VEVENT
DTSTART;TZID=America/Vancouver:20251122T150000
DTEND;TZID=America/Vancouver:20251122T170000
DTSTAMP:20260422T201054
CREATED:20250803T031742Z
LAST-MODIFIED:20251121T064830Z
UID:5100-1763823600-1763830800@pdxmetroarts.org
SUMMARY:Dance Mosaic - 3PM
DESCRIPTION:Where Tradition Meets Innovation \nImmerse yourself in an enthralling dance performance crafted by esteemed local icons and nationally acclaimed choreographers. This magnificent concert transitions seamlessly from traditional ballet to the most avant-garde movements. Join the Metro Dancers and their distinguished guests on Saturday\, November 22nd\, at 3:00 p.m. and 7:00 p.m. at our venue located at 9003 SE Stark Street. \nFeaturing a blend of promising pre-professional dancers and seasoned veterans\, this troupe epitomizes elegance and sophistication. Witness their brilliance as they illuminate the stage with works by National Endowment for the Arts Choreography awardees\, former principals from major dance companies\, and esteemed local choreographers. \nThe mission of Metro Dancers is to deliver performances of the highest caliber for dancers while providing exhilarating dance experiences for audiences to relish.
URL:https://pdxmetroarts.org/event/dance-mosaic-3pm/
LOCATION:Portland Metro Arts\, 9003 SE Stark St\, Portland\, OR\, 97216\, United States
CATEGORIES:Performance
ATTACH;FMTTYPE=image/png:https://pdxmetroarts.org/wp-content/uploads/2025/08/mosaic-25.png
ORGANIZER;CN="Portland Metro Arts":MAILTO:music@pdxmetroarts.org
END:VEVENT
END:VCALENDAR