BEGIN:VCALENDAR
VERSION:2.0
PRODID:-//Portland Metro Arts - ECPv6.15.20//NONSGML v1.0//EN
CALSCALE:GREGORIAN
METHOD:PUBLISH
X-ORIGINAL-URL:https://pdxmetroarts.org
X-WR-CALDESC:Events for Portland Metro Arts
REFRESH-INTERVAL;VALUE=DURATION:PT1H
X-Robots-Tag:noindex
X-PUBLISHED-TTL:PT1H
BEGIN:VTIMEZONE
TZID:America/Vancouver
BEGIN:DAYLIGHT
TZOFFSETFROM:-0800
TZOFFSETTO:-0700
TZNAME:PDT
DTSTART:20250309T100000
END:DAYLIGHT
BEGIN:STANDARD
TZOFFSETFROM:-0700
TZOFFSETTO:-0800
TZNAME:PST
DTSTART:20251102T090000
END:STANDARD
BEGIN:DAYLIGHT
TZOFFSETFROM:-0800
TZOFFSETTO:-0700
TZNAME:PDT
DTSTART:20260308T100000
END:DAYLIGHT
BEGIN:STANDARD
TZOFFSETFROM:-0700
TZOFFSETTO:-0800
TZNAME:PST
DTSTART:20261101T090000
END:STANDARD
BEGIN:DAYLIGHT
TZOFFSETFROM:-0800
TZOFFSETTO:-0700
TZNAME:PDT
DTSTART:20270314T100000
END:DAYLIGHT
BEGIN:STANDARD
TZOFFSETFROM:-0700
TZOFFSETTO:-0800
TZNAME:PST
DTSTART:20271107T090000
END:STANDARD
END:VTIMEZONE
BEGIN:VEVENT
DTSTART;TZID=America/Vancouver:20260323T090000
DTEND;TZID=America/Vancouver:20260327T160000
DTSTAMP:20260422T030119
CREATED:20260103T014857Z
LAST-MODIFIED:20260210T230201Z
UID:5717-1774256400-1774627200@pdxmetroarts.org
SUMMARY:Spring Arts Camp
DESCRIPTION:2026 Spring Break Arts Camp\nMarch 23 – 27\nNeed a creative option to stay engaged during Spring Break? Try this special Spring-Break version of our popular 4 Arts Day Camp! Daily activities include fun mini classes in dance\, music\, theatre\, and visual art\, as well as free time to pursue safe and healthy activities.  If your family is interested in our Spring Break Camp\, please take a moment to register by hitting the link below. Please note that you will be given the option to select which days you would like to attend; we understand families may try to get away for at least part of Spring Break\, and want to help meet your needs as best we can. Space priority will be given to those enrolling in three or more days. \nENROLL HERE
URL:https://pdxmetroarts.org/event/spring-arts-camp/
LOCATION:Portland Metro Arts\, 9003 SE Stark St\, Portland\, OR\, 97216\, United States
CATEGORIES:School
ATTACH;FMTTYPE=image/png:https://pdxmetroarts.org/wp-content/uploads/2025/12/9.png
ORGANIZER;CN="Portland Metro Arts":MAILTO:music@pdxmetroarts.org
END:VEVENT
END:VCALENDAR