BEGIN:VCALENDAR
VERSION:2.0
PRODID:-//Portland Metro Arts - ECPv6.15.20//NONSGML v1.0//EN
CALSCALE:GREGORIAN
METHOD:PUBLISH
X-WR-CALNAME:Portland Metro Arts
X-ORIGINAL-URL:https://pdxmetroarts.org
X-WR-CALDESC:Events for Portland Metro Arts
REFRESH-INTERVAL;VALUE=DURATION:PT1H
X-Robots-Tag:noindex
X-PUBLISHED-TTL:PT1H
BEGIN:VTIMEZONE
TZID:America/Vancouver
BEGIN:DAYLIGHT
TZOFFSETFROM:-0800
TZOFFSETTO:-0700
TZNAME:PDT
DTSTART:20240310T100000
END:DAYLIGHT
BEGIN:STANDARD
TZOFFSETFROM:-0700
TZOFFSETTO:-0800
TZNAME:PST
DTSTART:20241103T090000
END:STANDARD
BEGIN:DAYLIGHT
TZOFFSETFROM:-0800
TZOFFSETTO:-0700
TZNAME:PDT
DTSTART:20250309T100000
END:DAYLIGHT
BEGIN:STANDARD
TZOFFSETFROM:-0700
TZOFFSETTO:-0800
TZNAME:PST
DTSTART:20251102T090000
END:STANDARD
BEGIN:DAYLIGHT
TZOFFSETFROM:-0800
TZOFFSETTO:-0700
TZNAME:PDT
DTSTART:20260308T100000
END:DAYLIGHT
BEGIN:STANDARD
TZOFFSETFROM:-0700
TZOFFSETTO:-0800
TZNAME:PST
DTSTART:20261101T090000
END:STANDARD
BEGIN:DAYLIGHT
TZOFFSETFROM:-0800
TZOFFSETTO:-0700
TZNAME:PDT
DTSTART:20270314T100000
END:DAYLIGHT
BEGIN:STANDARD
TZOFFSETFROM:-0700
TZOFFSETTO:-0800
TZNAME:PST
DTSTART:20271107T090000
END:STANDARD
END:VTIMEZONE
BEGIN:VEVENT
DTSTART;TZID=America/Vancouver:20260110T130000
DTEND;TZID=America/Vancouver:20260110T160000
DTSTAMP:20260421T182042
CREATED:20251201T200657Z
LAST-MODIFIED:20251231T192922Z
UID:5430-1768050000-1768060800@pdxmetroarts.org
SUMMARY:Coppelia Auditions
DESCRIPTION:Auditions for Metro Dancers’\nChildren\, Adult\, Character\nSaturday\, January 10\, 2026\nPortland Metro Arts\n9003 SE Stark\, Portland\nMetroDancers@PDXMetroArts.org          503-408-0604 \nMetro Dancers is pleased to present the highly acclaimed comedy ballet classic Coppelia\, as staged by the nationally prominent Joanna Kneeland. Coppelia is a whimsical tale about an eccentric inventor\, his animated doll\, and the delightful chaos they introduce to their unsuspecting village. \nAuditions are open to anyone who meets the criteria below\, regardless of where they receive their training.  We will be casting for supporting acting characters as well as adult\, children’s\, intermediate and advanced dancing roles \n1:00-2:30pm   Auditions for Lower Division dancers (level 1 & 2)\nPerformers must be at least six years old and have a minimum of one year of dance experience. \n2:30-4:00pm   Auditions for Intermediate & Advanced Dancers (level 3 & 4)\nWe will be casting for principal dancers and intermediate to advanced corps parts.  Women auditioning for principal roles should bring their pointe shoes.  Men should have some performance experience.  No individually prepared material will be required. \nFeatured Roles being cast at this audition:\nSwanilda-a young girl\nFranz-a young man\nBrigitta-a young barmaid\nFriends of Swanilda-four women\nDr. Coppelius-eccentric inventor\nCoppelia-mechanical doll\nVillage girls-four women\nFriends of Franz-four men \nTentative Performance Dates\nApril 10-11\, 2026 \nSave time on audition day and fill out an audition form
URL:https://pdxmetroarts.org/event/coppelia-auditions/
LOCATION:Portland Metro Arts\, 9003 SE Stark St\, Portland\, OR\, 97216\, United States
CATEGORIES:Audition
ATTACH;FMTTYPE=image/png:https://pdxmetroarts.org/wp-content/uploads/2025/08/Coppelia-Audition.png
ORGANIZER;CN="Portland Metro Arts":MAILTO:music@pdxmetroarts.org
END:VEVENT
BEGIN:VEVENT
DTSTART;TZID=America/Vancouver:20251229T090000
DTEND;TZID=America/Vancouver:20251231T160000
DTSTAMP:20260421T182042
CREATED:20251220T011056Z
LAST-MODIFIED:20251220T011148Z
UID:5708-1766998800-1767196800@pdxmetroarts.org
SUMMARY:Little Nutcracker Workshop - Half-A-Nut
DESCRIPTION:Extend your Holiday celebration by becoming part of the timeless Nutcracker tradition. Join dancers of all ages and levels in creating a very special version of this classic story presented to family and friends on the last day of camp. \nLittle Nutcracker Workshop 2025\nThis full-day workshop is for beginning through intermediate students age six through twelve. Registrations completed by December 15th will receive a 15% discount off the tuition. \nHalf A Nut\nFor our youngest dancers we offer an opportunity to be in the Snow and Waltz of the Flowers Dances. This is an excellent way for them to become familiar with the Holiday classic from the performers’ point of view. A performance for family and friends will be presented on the last day of camp.
URL:https://pdxmetroarts.org/event/little-nutcracker-workshop-half-a-nut/
LOCATION:Portland Metro Arts\, 9003 SE Stark St\, Portland\, OR\, 97216\, United States
CATEGORIES:School
ATTACH;FMTTYPE=image/png:https://pdxmetroarts.org/wp-content/uploads/2025/12/nut-vid.png
ORGANIZER;CN="Portland Metro Arts":MAILTO:music@pdxmetroarts.org
END:VEVENT
BEGIN:VEVENT
DTSTART;TZID=America/Vancouver:20251124T090000
DTEND;TZID=America/Vancouver:20251126T160000
DTSTAMP:20260421T182042
CREATED:20251023T172903Z
LAST-MODIFIED:20251023T175120Z
UID:5345-1763974800-1764172800@pdxmetroarts.org
SUMMARY:Thanksgiving Break Camp
DESCRIPTION:Come experience the arts with us! This year during the week of Thanksgiving PMA will be offering a special 3-day version of our popular 4 Arts camp! Each day campers will have the chance to experience small tastes of Dance\, Music\, Theatre\, and Visual Arts\, and explore themes of abundance\, gratitude\, and the natural beauty of changing seasons! \nIf your camper is enrolled in a regular PMA class we’ll make sure they get to class on time. Campers should bring a sack lunch\, a water bottle\, and at least two nutritious snacks with them each day. \nCamp curriculum runs from 9:00am-3:00pm\, with arrival starting at 8:30am and extended care until 6:00pm at no additional cost \n			\n				ENROLL NOW
URL:https://pdxmetroarts.org/event/thanksgiving-break-camp/
LOCATION:Portland Metro Arts\, 9003 SE Stark St\, Portland\, OR\, 97216\, United States
CATEGORIES:School
ATTACH;FMTTYPE=image/png:https://pdxmetroarts.org/wp-content/uploads/2025/08/thanks-camp-25.png
ORGANIZER;CN="Portland Metro Arts":MAILTO:music@pdxmetroarts.org
END:VEVENT
BEGIN:VEVENT
DTSTART;TZID=America/Vancouver:20251122T190000
DTEND;TZID=America/Vancouver:20251122T210000
DTSTAMP:20260421T182042
CREATED:20250803T034036Z
LAST-MODIFIED:20251121T064704Z
UID:5109-1763838000-1763845200@pdxmetroarts.org
SUMMARY:Dance Mosaic - 7pm
DESCRIPTION:Where Tradition Meets Innovation \nImmerse yourself in an enthralling dance performance crafted by esteemed local icons and nationally acclaimed choreographers. This magnificent concert transitions seamlessly from traditional ballet to the most avant-garde movements. Join the Metro Dancers and their distinguished guests on Saturday\, November 22nd\, at 3:00 p.m. and 7:00 p.m. at our venue located at 9003 SE Stark Street. \nFeaturing a blend of promising pre-professional dancers and seasoned veterans\, this troupe epitomizes elegance and sophistication. Witness their brilliance as they illuminate the stage with works by National Endowment for the Arts Choreography awardees\, former principals from major dance companies\, and esteemed local choreographers. \nThe mission of Metro Dancers is to deliver performances of the highest caliber for dancers while providing exhilarating dance experiences for audiences to relish.
URL:https://pdxmetroarts.org/event/dance-mosaic-7pm/
LOCATION:Portland Metro Arts\, 9003 SE Stark St\, Portland\, OR\, 97216\, United States
CATEGORIES:Performance
ATTACH;FMTTYPE=image/png:https://pdxmetroarts.org/wp-content/uploads/2025/08/mosaic-25.png
ORGANIZER;CN="Portland Metro Arts":MAILTO:music@pdxmetroarts.org
END:VEVENT
BEGIN:VEVENT
DTSTART;TZID=America/Vancouver:20251122T163000
DTEND;TZID=America/Vancouver:20251122T183000
DTSTAMP:20260421T182042
CREATED:20250803T035456Z
LAST-MODIFIED:20250929T215153Z
UID:5114-1763829000-1763836200@pdxmetroarts.org
SUMMARY:Italian Dinner Fundraiser
DESCRIPTION:Feast on delights from local gems like Olive Garden\, Flying Pie Pizza\, Stark Street Pizza\, and more! It’s a deliciously fun way to fuel our programs. Culinary magic starts at 4:30pm\, right between the showstoppers! \nOur fundraisers are like a glittery gala for the soul! Not just a chance to boost PMA\, but a passport to the vibrant creativity of our community. Dive into events with jaw-dropping performances from students and local stars\, mouthwatering meals\, and more.
URL:https://pdxmetroarts.org/event/italian-dinner-fundraiser/
LOCATION:Portland Metro Arts\, 9003 SE Stark St\, Portland\, OR\, 97216\, United States
CATEGORIES:Fundraiser
ATTACH;FMTTYPE=image/png:https://pdxmetroarts.org/wp-content/uploads/2025/07/11.png
ORGANIZER;CN="Portland Metro Arts":MAILTO:music@pdxmetroarts.org
END:VEVENT
BEGIN:VEVENT
DTSTART;TZID=America/Vancouver:20251122T150000
DTEND;TZID=America/Vancouver:20251122T170000
DTSTAMP:20260421T182042
CREATED:20250803T031742Z
LAST-MODIFIED:20251121T064830Z
UID:5100-1763823600-1763830800@pdxmetroarts.org
SUMMARY:Dance Mosaic - 3PM
DESCRIPTION:Where Tradition Meets Innovation \nImmerse yourself in an enthralling dance performance crafted by esteemed local icons and nationally acclaimed choreographers. This magnificent concert transitions seamlessly from traditional ballet to the most avant-garde movements. Join the Metro Dancers and their distinguished guests on Saturday\, November 22nd\, at 3:00 p.m. and 7:00 p.m. at our venue located at 9003 SE Stark Street. \nFeaturing a blend of promising pre-professional dancers and seasoned veterans\, this troupe epitomizes elegance and sophistication. Witness their brilliance as they illuminate the stage with works by National Endowment for the Arts Choreography awardees\, former principals from major dance companies\, and esteemed local choreographers. \nThe mission of Metro Dancers is to deliver performances of the highest caliber for dancers while providing exhilarating dance experiences for audiences to relish.
URL:https://pdxmetroarts.org/event/dance-mosaic-3pm/
LOCATION:Portland Metro Arts\, 9003 SE Stark St\, Portland\, OR\, 97216\, United States
CATEGORIES:Performance
ATTACH;FMTTYPE=image/png:https://pdxmetroarts.org/wp-content/uploads/2025/08/mosaic-25.png
ORGANIZER;CN="Portland Metro Arts":MAILTO:music@pdxmetroarts.org
END:VEVENT
BEGIN:VEVENT
DTSTART;TZID=America/Vancouver:20251018T130000
DTEND;TZID=America/Vancouver:20251018T150000
DTSTAMP:20260421T182042
CREATED:20250803T030154Z
LAST-MODIFIED:20250803T030154Z
UID:5098-1760792400-1760799600@pdxmetroarts.org
SUMMARY:Winter in the Willows Auditions
DESCRIPTION:Based on Kenneth Grahame’s best-selling The Wind in the Willows with music by composer Arthur Sullivan this original production is a high-spirited tale of friendship and camaraderie. This boisterous comedy follows Mole\, Rat\, Badger\, and the impulsive Mr. Toad\, when their friendship is threatened and the Willows foursome must make Toad into a respectable member of society. WINTER IN THE WILLOWS is a humorous tale full of wit\, a gorgeous score\, and heartwarming lessons of friendship. The perfect fit for family audiences everywhere. \nCome ready to sing\, act and dance. No individual material needs to be prepared Willows materials provided. \nPrincipal Roles:\nMr. Toad– Teen to Adult. The village squire\, and wealthy owner of Toad Hall. Toad is intelligent\, creative and resourceful; he is also completely lacking in even the most basic common sense. He cares deeply for his friends and they in turn worry about his habits\, and eventually help him mature settle down.\nMole – Teen to Adult. Mole is a sensible animal\, yet generous and extremely loyal to his friends.. A ‘younger’ character than Rat or Badger\, he slowly matures from a frightened animal into a self-reliant\, brave and clever companion.\nBadger–Teen to Adult.  The ‘oldest’ of the animals\, Badger is a stoic and solitary character. He is friendly and hospitable\, caring deeply for his friends. Because of both his seriousness and his gruffness\, he is the one who works hardest to reform Toad.\nRatty– Teen to Adult. Ratty is kind\, sociable\, and accommodating. He has a strong sense of manners and responsibility\, so he wants to make sure everyone around him feels comfortable and included. Though loyal to all his friends\, Rat cares most for Mole. \nSecondary Roles:\nGrandma Mole- Teen to Adult. Matriarch of the Mole Family visiting the Willows. Very Proper and strict in her ideas about acceptable behavior\nWillard/Willa Weasel– Teen to Adult. Leader of the Weasel gang of thieves\nOtter- Older Child/Teen. Friend of Ratty and Mole\nCousin Mole-Older Child/Teen. Part of Mole family visiting the Willows\nMrs. Hedgehog–Teen to Adult. Resident of the Willows\, Mother of hedgehog twins \nOther Roles and Chorus parts available for all. Our mission is to provide everyone the opportunity to learn\, perform\, and experience the arts. \nCLICK HERE FOR AN ONLINE AUDITION FORM OR USE THE FORM BELOW \nPerformances—February 7th & 8th\, 2026 \nWhether you want to be part of the cast or crew\, we want to hear from you.
URL:https://pdxmetroarts.org/event/winter-in-the-willows-auditions/
LOCATION:Portland Metro Arts\, 9003 SE Stark St\, Portland\, OR\, 97216\, United States
CATEGORIES:Audition
ATTACH;FMTTYPE=image/png:https://pdxmetroarts.org/wp-content/uploads/2025/07/2.png
ORGANIZER;CN="Portland Metro Arts":MAILTO:music@pdxmetroarts.org
END:VEVENT
BEGIN:VEVENT
DTSTART;VALUE=DATE:20250902
DTEND;VALUE=DATE:20250903
DTSTAMP:20260421T182042
CREATED:20250803T024551Z
LAST-MODIFIED:20250803T030313Z
UID:5096-1756771200-1756857599@pdxmetroarts.org
SUMMARY:Fall Classes Start
DESCRIPTION:PMA is bursting at the seams with a whopping 40+ classes covering all things artsy – from Dance and Music to Theatre and Visual Arts! Dive into the world of creativity\, whether strumming a tune or splashing colors on a canvas. Shake a leg in dance classes or unleash your emotions in theatre classes. No matter your age or expertise\, there’s a creative adventure waiting just for you! \nNeed Some After-School Supervision?\nAside from top-notch classes\, kiddos from grades K-8 can hop aboard our After-School Arts Club (ASAC)! It’s the go-to hangout spot for PMA students who need a cool after-school scene. Snacks? Check. Homework time? Double check. Plus\, tons of fun activities and games! And hey\, we’ve got your back with after-school rides from these schools: Atkinson\, Bridger\, Clark\, Harrison Park\, Lent Elementary\, Portland Arthur Academy\, and Vestal. \nCLICK HERE TO SEE OUR FALL SCHEDULE
URL:https://pdxmetroarts.org/event/fall-classes-start/
LOCATION:Portland Metro Arts\, 9003 SE Stark St\, Portland\, OR\, 97216\, United States
CATEGORIES:School
ATTACH;FMTTYPE=image/png:https://pdxmetroarts.org/wp-content/uploads/2025/07/Magic-Design.png
ORGANIZER;CN="Portland Metro Arts":MAILTO:music@pdxmetroarts.org
END:VEVENT
BEGIN:VEVENT
DTSTART;TZID=America/Vancouver:20250809T100000
DTEND;TZID=America/Vancouver:20250809T140000
DTSTAMP:20260421T182042
CREATED:20250731T183439Z
LAST-MODIFIED:20250908T220545Z
UID:4903-1754733600-1754748000@pdxmetroarts.org
SUMMARY:Work Party
DESCRIPTION:Help us keep PMA running \nCome to our work parties on the 2nd Saturday of each month from 10am-2pm. \nWe will be working mainly in the dressing rooms cleaning and organizing. \nYou don’t have to be a master craftsman or seamstress to help out around PMA. Volunteering at PMA offers a unique opportunity to engage with a vibrant community and support the development of young artists. Ongoing volunteer opportunities include assisting with costume sewing or organizing\, for upcoming productions\, or helping with facility maintenance.
URL:https://pdxmetroarts.org/event/work-party/
LOCATION:Portland Metro Arts\, 9003 SE Stark St\, Portland\, OR\, 97216\, United States
CATEGORIES:School
ATTACH;FMTTYPE=image/png:https://pdxmetroarts.org/wp-content/uploads/2024/12/Black-Illustrative-Carpentry-Business-Logo.png
ORGANIZER;CN="Portland Metro Arts":MAILTO:music@pdxmetroarts.org
END:VEVENT
END:VCALENDAR