BEGIN:VCALENDAR
VERSION:2.0
PRODID:-//Portland Metro Arts - ECPv6.15.20//NONSGML v1.0//EN
CALSCALE:GREGORIAN
METHOD:PUBLISH
X-ORIGINAL-URL:https://pdxmetroarts.org
X-WR-CALDESC:Events for Portland Metro Arts
REFRESH-INTERVAL;VALUE=DURATION:PT1H
X-Robots-Tag:noindex
X-PUBLISHED-TTL:PT1H
BEGIN:VTIMEZONE
TZID:America/Vancouver
BEGIN:DAYLIGHT
TZOFFSETFROM:-0800
TZOFFSETTO:-0700
TZNAME:PDT
DTSTART:20250309T100000
END:DAYLIGHT
BEGIN:STANDARD
TZOFFSETFROM:-0700
TZOFFSETTO:-0800
TZNAME:PST
DTSTART:20251102T090000
END:STANDARD
BEGIN:DAYLIGHT
TZOFFSETFROM:-0800
TZOFFSETTO:-0700
TZNAME:PDT
DTSTART:20260308T100000
END:DAYLIGHT
BEGIN:STANDARD
TZOFFSETFROM:-0700
TZOFFSETTO:-0800
TZNAME:PST
DTSTART:20261101T090000
END:STANDARD
BEGIN:DAYLIGHT
TZOFFSETFROM:-0800
TZOFFSETTO:-0700
TZNAME:PDT
DTSTART:20270314T100000
END:DAYLIGHT
BEGIN:STANDARD
TZOFFSETFROM:-0700
TZOFFSETTO:-0800
TZNAME:PST
DTSTART:20271107T090000
END:STANDARD
END:VTIMEZONE
BEGIN:VEVENT
DTSTART;TZID=America/Vancouver:20260509T190000
DTEND;TZID=America/Vancouver:20260509T210000
DTSTAMP:20260421T171034
CREATED:20260218T214255Z
LAST-MODIFIED:20260412T003508Z
UID:6196-1778353200-1778360400@pdxmetroarts.org
SUMMARY:Evening of Illusion - 7PM
DESCRIPTION:Sprinkle some magic dust on Mother’s Day Weekend by diving into Scott Anderson’s Evening of Illusion. A fundraiser for Portland Metro Arts. Get ready for a night of mind-bending magic\, side-splitting comedy\, and oodles of audience hijinks. \nBrace yourself for a magic show like no other\, woven from Scott’s own life tales. This theatrical wonderland is a perfect blend of classic and cutting-edge illusions\, with nods to the legendary Harry Houdini himself. It’s a family-friendly extravaganza where folks vanish\, reappear\, float\, defy odds\, and even get sliced and diced (minus the actual harm\, of course)! \nScott Anderson\, the PNW’s magical maestro\, has dazzled on stages like America’s Got Talent and Snoop Dogg’s Go Big Show\, casting spells far and wide with his viral magic seen by over 100 million. From flight medic to medical evacuation pilot in the Army\, he’s a true magician of many hats. Now\, residing in Canby with his bustling family of humans and furry pals\, Scott still sprinkles his magical flair in theaters and corporate events nationwide. Get your tickets to this magical ride—your amazement is absolutely guaranteed! \nClick here for highlight reel of Evening of Illusions past performances and television appearances: www.illusionsofanderson.com \nCome support our programs and help PMA empower creativity by making a lasting impact on everyone in our community through the arts. Our mission is to provide everyone the opportunity to learn\, perform\, and experience the arts. \n  \nSEATING CHART
URL:https://pdxmetroarts.org/event/an-enchanting-event-7pm/
LOCATION:Portland Metro Arts\, 9003 SE Stark St\, Portland\, OR\, 97216\, United States
CATEGORIES:Fundraiser
ATTACH;FMTTYPE=image/png:https://pdxmetroarts.org/wp-content/uploads/2026/02/Fall-Classes-Start-2.png
ORGANIZER;CN="Portland Metro Arts":MAILTO:music@pdxmetroarts.org
END:VEVENT
END:VCALENDAR